Package: Xeva Version: 1.23.1 Command: /Library/Frameworks/R.framework/Resources/bin/R CMD build --keep-empty-dirs --no-resave-data Xeva StartedAt: 2025-02-04 17:55:34 -0500 (Tue, 04 Feb 2025) EndedAt: 2025-02-04 17:56:00 -0500 (Tue, 04 Feb 2025) EllapsedTime: 26.3 seconds RetCode: 0 Status: OK PackageFile: Xeva_1.23.1.tar.gz PackageFileSize: 1.571 MiB