Package: Xeva Version: 1.23.1 Command: /Library/Frameworks/R.framework/Resources/bin/R CMD check --install=check:Xeva.install-out.txt --library=/Library/Frameworks/R.framework/Resources/library --no-vignettes --timings Xeva_1.23.1.tar.gz StartedAt: 2025-02-04 22:00:11 -0500 (Tue, 04 Feb 2025) EndedAt: 2025-02-04 22:01:44 -0500 (Tue, 04 Feb 2025) EllapsedTime: 93.1 seconds RetCode: 1 Status: ERROR CheckDir: Xeva.Rcheck Warnings: NA