Package: Xeva Version: 1.23.1 Command: /Library/Frameworks/R.framework/Resources/bin/R CMD INSTALL Xeva StartedAt: 2025-02-04 15:21:54 -0500 (Tue, 04 Feb 2025) EndedAt: 2025-02-04 15:22:08 -0500 (Tue, 04 Feb 2025) EllapsedTime: 13.6 seconds RetCode: 0 Status: OK