Package: Xeva Version: 1.23.1 Command: /home/biocbuild/R/R/bin/R CMD build --keep-empty-dirs --no-resave-data Xeva StartedAt: 2025-01-28 03:13:15 -0000 (Tue, 28 Jan 2025) EndedAt: 2025-01-28 03:14:34 -0000 (Tue, 28 Jan 2025) EllapsedTime: 79.0 seconds RetCode: 0 Status: OK PackageFile: Xeva_1.23.1.tar.gz PackageFileSize: 1.563 MiB