Package: Xeva Version: 1.23.1 Command: /home/biocbuild/R/R/bin/R CMD check --install=check:Xeva.install-out.txt --library=/home/biocbuild/R/R/site-library --no-vignettes --timings Xeva_1.23.1.tar.gz StartedAt: 2025-01-27 13:57:50 -0000 (Mon, 27 Jan 2025) EndedAt: 2025-01-27 14:03:51 -0000 (Mon, 27 Jan 2025) EllapsedTime: 361.1 seconds RetCode: 1 Status: ERROR CheckDir: Xeva.Rcheck Warnings: NA