Package: Xeva Version: 1.23.1 Command: /home/biocbuild/R/R/bin/R CMD INSTALL Xeva StartedAt: 2025-01-29 20:21:03 -0000 (Wed, 29 Jan 2025) EndedAt: 2025-01-29 20:21:52 -0000 (Wed, 29 Jan 2025) EllapsedTime: 49.0 seconds RetCode: 0 Status: OK