Package: Xeva Version: 1.23.1 Command: /Library/Frameworks/R.framework/Resources/bin/R CMD build --keep-empty-dirs --no-resave-data Xeva StartedAt: 2025-02-04 18:42:52 -0500 (Tue, 04 Feb 2025) EndedAt: 2025-02-04 18:44:02 -0500 (Tue, 04 Feb 2025) EllapsedTime: 69.7 seconds RetCode: 0 Status: OK PackageFile: Xeva_1.23.1.tar.gz PackageFileSize: 1.571 MiB