Package: Xeva Version: 1.23.1 Command: /Library/Frameworks/R.framework/Resources/bin/R CMD check --install=check:Xeva.install-out.txt --library=/Library/Frameworks/R.framework/Resources/library --no-vignettes --timings Xeva_1.23.1.tar.gz StartedAt: 2025-02-05 00:08:56 -0500 (Wed, 05 Feb 2025) EndedAt: 2025-02-05 00:15:57 -0500 (Wed, 05 Feb 2025) EllapsedTime: 421.1 seconds RetCode: 1 Status: ERROR CheckDir: Xeva.Rcheck Warnings: NA