Package: Xeva Version: 1.23.1 Command: /home/biocbuild/bbs-3.21-bioc/R/bin/R CMD build --keep-empty-dirs --no-resave-data Xeva StartedAt: 2025-02-04 19:44:18 -0500 (Tue, 04 Feb 2025) EndedAt: 2025-02-04 19:45:15 -0500 (Tue, 04 Feb 2025) EllapsedTime: 57.1 seconds RetCode: 0 Status: OK PackageFile: Xeva_1.23.1.tar.gz PackageFileSize: 1.571 MiB