Package: Xeva Version: 1.23.1 Command: /home/biocbuild/bbs-3.21-bioc/R/bin/R CMD check --install=check:Xeva.install-out.txt --library=/home/biocbuild/bbs-3.21-bioc/R/site-library --timings Xeva_1.23.1.tar.gz StartedAt: 2025-02-05 03:55:25 -0500 (Wed, 05 Feb 2025) EndedAt: 2025-02-05 03:59:56 -0500 (Wed, 05 Feb 2025) EllapsedTime: 270.6 seconds RetCode: 1 Status: ERROR CheckDir: Xeva.Rcheck Warnings: NA