Package: Xeva Version: 1.23.1 Command: /home/biocbuild/bbs-3.21-bioc/R/bin/R CMD INSTALL Xeva StartedAt: 2025-02-04 15:35:40 -0500 (Tue, 04 Feb 2025) EndedAt: 2025-02-04 15:36:15 -0500 (Tue, 04 Feb 2025) EllapsedTime: 35.1 seconds RetCode: 0 Status: OK