Package: Xeva Version: 1.23.1 Command: rm -rf Xeva.buildbin-libdir && mkdir Xeva.buildbin-libdir && E:\biocbuild\bbs-3.21-bioc\R\bin\R.exe CMD INSTALL --build --library=Xeva.buildbin-libdir Xeva_1.23.1.tar.gz StartedAt: 2025-02-05 09:11:00 -0500 (Wed, 05 Feb 2025) EndedAt: 2025-02-05 09:12:03 -0500 (Wed, 05 Feb 2025) EllapsedTime: 63.2 seconds RetCode: 0 Status: OK PackageFile: Xeva_1.23.1.zip PackageFileSize: 1.443 MiB