Package: Xeva Version: 1.23.1 Command: chmod a+r Xeva -R && E:\biocbuild\bbs-3.21-bioc\R\bin\R.exe CMD build --keep-empty-dirs --no-resave-data Xeva StartedAt: 2025-02-04 22:22:07 -0500 (Tue, 04 Feb 2025) EndedAt: 2025-02-04 22:23:47 -0500 (Tue, 04 Feb 2025) EllapsedTime: 100.1 seconds RetCode: 0 Status: OK PackageFile: Xeva_1.23.1.tar.gz PackageFileSize: 1.572 MiB