Package: Xeva Version: 1.23.1 Command: E:\biocbuild\bbs-3.21-bioc\R\bin\R.exe CMD check --no-multiarch --install=check:Xeva.install-out.txt --library=E:\biocbuild\bbs-3.21-bioc\R\library --no-vignettes --timings Xeva_1.23.1.tar.gz StartedAt: 2025-02-05 06:59:41 -0500 (Wed, 05 Feb 2025) EndedAt: 2025-02-05 07:04:32 -0500 (Wed, 05 Feb 2025) EllapsedTime: 291.2 seconds RetCode: 1 Status: ERROR CheckDir: Xeva.Rcheck Warnings: NA