Package: YAPSA Version: 1.33.0 Command: /Library/Frameworks/R.framework/Resources/bin/R CMD build --keep-empty-dirs --no-resave-data YAPSA StartedAt: 2025-02-12 18:43:27 -0500 (Wed, 12 Feb 2025) EndedAt: 2025-02-12 18:47:00 -0500 (Wed, 12 Feb 2025) EllapsedTime: 212.9 seconds RetCode: 0 Status: OK PackageFile: YAPSA_1.33.0.tar.gz PackageFileSize: 4.012 MiB