Package: YAPSA Version: 1.33.0 Command: /Library/Frameworks/R.framework/Resources/bin/R CMD INSTALL YAPSA StartedAt: 2025-02-12 15:29:12 -0500 (Wed, 12 Feb 2025) EndedAt: 2025-02-12 15:30:37 -0500 (Wed, 12 Feb 2025) EllapsedTime: 85.4 seconds RetCode: 0 Status: OK