Package: YAPSA Version: 1.33.0 Command: /home/biocbuild/bbs-3.21-bioc/R/bin/R CMD check --install=check:YAPSA.install-out.txt --library=/home/biocbuild/bbs-3.21-bioc/R/site-library --timings YAPSA_1.33.0.tar.gz StartedAt: 2025-02-13 03:50:04 -0500 (Thu, 13 Feb 2025) EndedAt: 2025-02-13 04:02:05 -0500 (Thu, 13 Feb 2025) EllapsedTime: 720.7 seconds RetCode: 0 Status: OK CheckDir: YAPSA.Rcheck Warnings: 0