Package: YAPSA Version: 1.33.0 Command: /home/biocbuild/bbs-3.21-bioc/R/bin/R CMD INSTALL YAPSA StartedAt: 2025-02-12 15:48:43 -0500 (Wed, 12 Feb 2025) EndedAt: 2025-02-12 15:49:46 -0500 (Wed, 12 Feb 2025) EllapsedTime: 63.4 seconds RetCode: 0 Status: OK