Package: YAPSA Version: 1.33.0 Command: rm -rf YAPSA.buildbin-libdir && mkdir YAPSA.buildbin-libdir && E:\biocbuild\bbs-3.21-bioc\R\bin\R.exe CMD INSTALL --build --library=YAPSA.buildbin-libdir YAPSA_1.33.0.tar.gz StartedAt: 2025-02-10 08:58:22 -0500 (Mon, 10 Feb 2025) EndedAt: 2025-02-10 08:59:58 -0500 (Mon, 10 Feb 2025) EllapsedTime: 95.9 seconds RetCode: 0 Status: OK PackageFile: YAPSA_1.33.0.zip PackageFileSize: 3.182 MiB