Package: YAPSA Version: 1.33.0 Command: chmod a+r YAPSA -R && E:\biocbuild\bbs-3.21-bioc\R\bin\R.exe CMD build --keep-empty-dirs --no-resave-data YAPSA StartedAt: 2025-02-12 22:28:30 -0500 (Wed, 12 Feb 2025) EndedAt: 2025-02-12 22:32:54 -0500 (Wed, 12 Feb 2025) EllapsedTime: 264.0 seconds RetCode: 0 Status: OK PackageFile: YAPSA_1.33.0.tar.gz PackageFileSize: 2.77 MiB