Package: ZygosityPredictor Version: 1.7.0 Command: /Library/Frameworks/R.framework/Resources/bin/R CMD check --install=check:ZygosityPredictor.install-out.txt --library=/Library/Frameworks/R.framework/Resources/library --no-vignettes --timings ZygosityPredictor_1.7.0.tar.gz StartedAt: 2025-02-10 00:26:56 -0500 (Mon, 10 Feb 2025) EndedAt: 2025-02-10 00:30:53 -0500 (Mon, 10 Feb 2025) EllapsedTime: 236.4 seconds RetCode: 0 Status: OK CheckDir: ZygosityPredictor.Rcheck Warnings: 0