Package: ZygosityPredictor Version: 1.7.0 Command: chmod a+r ZygosityPredictor -R && E:\biocbuild\bbs-3.21-bioc\R\bin\R.exe CMD build --keep-empty-dirs --no-resave-data ZygosityPredictor StartedAt: 2025-02-09 22:21:57 -0500 (Sun, 09 Feb 2025) EndedAt: 2025-02-09 22:23:18 -0500 (Sun, 09 Feb 2025) EllapsedTime: 81.0 seconds RetCode: 0 Status: OK PackageFile: ZygosityPredictor_1.7.0.tar.gz PackageFileSize: 823.3 KiB