Package: ZygosityPredictor Version: 1.7.0 Command: E:\biocbuild\bbs-3.21-bioc\R\bin\R.exe CMD check --no-multiarch --install=check:ZygosityPredictor.install-out.txt --library=E:\biocbuild\bbs-3.21-bioc\R\library --no-vignettes --timings ZygosityPredictor_1.7.0.tar.gz StartedAt: 2025-02-10 06:40:45 -0500 (Mon, 10 Feb 2025) EndedAt: 2025-02-10 06:45:14 -0500 (Mon, 10 Feb 2025) EllapsedTime: 268.7 seconds RetCode: 0 Status: OK CheckDir: ZygosityPredictor.Rcheck Warnings: 0