Package: a4Classif Version: 1.55.0 Command: rm -rf a4Classif.buildbin-libdir && mkdir a4Classif.buildbin-libdir && /Users/biocbuild/BBS/utils/build-universal.sh a4Classif_1.55.0.tar.gz /Library/Frameworks/R.framework/Resources/bin/R a4Classif.buildbin-libdir StartedAt: 2025-02-09 22:05:12 -0500 (Sun, 09 Feb 2025) EndedAt: 2025-02-09 22:05:16 -0500 (Sun, 09 Feb 2025) EllapsedTime: 4.1 seconds RetCode: 0 Status: OK PackageFile: a4Classif_1.55.0.tgz PackageFileSize: 686.1 KiB