Package: a4Classif Version: 1.55.0 Command: /Library/Frameworks/R.framework/Resources/bin/R CMD INSTALL a4Classif StartedAt: 2025-02-12 15:21:07 -0500 (Wed, 12 Feb 2025) EndedAt: 2025-02-12 15:21:10 -0500 (Wed, 12 Feb 2025) EllapsedTime: 2.4 seconds RetCode: 0 Status: OK