Package: a4Classif Version: 1.55.0 Command: /Library/Frameworks/R.framework/Resources/bin/R CMD build --keep-empty-dirs --no-resave-data a4Classif StartedAt: 2025-02-09 15:51:47 -0500 (Sun, 09 Feb 2025) EndedAt: 2025-02-09 15:52:22 -0500 (Sun, 09 Feb 2025) EllapsedTime: 34.5 seconds RetCode: 0 Status: OK PackageFile: a4Classif_1.55.0.tar.gz PackageFileSize: 624 KiB