Package: a4Classif Version: 1.55.0 Command: /Library/Frameworks/R.framework/Resources/bin/R CMD check --install=check:a4Classif.install-out.txt --library=/Library/Frameworks/R.framework/Resources/library --no-vignettes --timings a4Classif_1.55.0.tar.gz StartedAt: 2025-02-09 18:58:38 -0500 (Sun, 09 Feb 2025) EndedAt: 2025-02-09 19:00:24 -0500 (Sun, 09 Feb 2025) EllapsedTime: 105.9 seconds RetCode: 0 Status: OK CheckDir: a4Classif.Rcheck Warnings: 0