Package: a4Classif Version: 1.55.0 Command: /home/biocbuild/bbs-3.21-bioc/R/bin/R CMD INSTALL a4Classif StartedAt: 2025-02-09 15:13:11 -0500 (Sun, 09 Feb 2025) EndedAt: 2025-02-09 15:13:18 -0500 (Sun, 09 Feb 2025) EllapsedTime: 7.4 seconds RetCode: 0 Status: OK