Package: a4Classif Version: 1.55.0 Command: chmod a+r a4Classif -R && E:\biocbuild\bbs-3.21-bioc\R\bin\R.exe CMD build --keep-empty-dirs --no-resave-data a4Classif StartedAt: 2025-02-09 17:09:12 -0500 (Sun, 09 Feb 2025) EndedAt: 2025-02-09 17:09:59 -0500 (Sun, 09 Feb 2025) EllapsedTime: 47.5 seconds RetCode: 0 Status: OK PackageFile: a4Classif_1.55.0.tar.gz PackageFileSize: 369.6 KiB