Package: a4Classif Version: 1.55.0 Command: E:\biocbuild\bbs-3.21-bioc\R\bin\R.exe CMD check --no-multiarch --install=check:a4Classif.install-out.txt --library=E:\biocbuild\bbs-3.21-bioc\R\library --no-vignettes --timings a4Classif_1.55.0.tar.gz StartedAt: 2025-02-04 22:55:02 -0500 (Tue, 04 Feb 2025) EndedAt: 2025-02-04 22:56:39 -0500 (Tue, 04 Feb 2025) EllapsedTime: 96.4 seconds RetCode: 0 Status: OK CheckDir: a4Classif.Rcheck Warnings: 0