Package: a4Core Version: 1.55.0 Command: /Library/Frameworks/R.framework/Resources/bin/R CMD check --install=check:a4Core.install-out.txt --library=/Library/Frameworks/R.framework/Resources/library --no-vignettes --timings a4Core_1.55.0.tar.gz StartedAt: 2025-02-09 17:58:59 -0500 (Sun, 09 Feb 2025) EndedAt: 2025-02-09 17:59:21 -0500 (Sun, 09 Feb 2025) EllapsedTime: 22.2 seconds RetCode: 0 Status: OK CheckDir: a4Core.Rcheck Warnings: 0