Package: a4Core Version: 1.55.0 Command: /Library/Frameworks/R.framework/Resources/bin/R CMD INSTALL a4Core StartedAt: 2025-02-09 15:21:06 -0500 (Sun, 09 Feb 2025) EndedAt: 2025-02-09 15:21:09 -0500 (Sun, 09 Feb 2025) EllapsedTime: 2.7 seconds RetCode: 0 Status: OK