Package: a4Core Version: 1.55.0 Command: /home/biocbuild/bbs-3.21-bioc/R/bin/R CMD build --keep-empty-dirs --no-resave-data a4Core StartedAt: 2025-02-09 16:06:20 -0500 (Sun, 09 Feb 2025) EndedAt: 2025-02-09 16:06:29 -0500 (Sun, 09 Feb 2025) EllapsedTime: 9.0 seconds RetCode: 0 Status: OK PackageFile: a4Core_1.55.0.tar.gz PackageFileSize: 290.4 KiB