Package: a4Core Version: 1.55.0 Command: /home/biocbuild/bbs-3.21-bioc/R/bin/R CMD check --install=check:a4Core.install-out.txt --library=/home/biocbuild/bbs-3.21-bioc/R/site-library --timings a4Core_1.55.0.tar.gz StartedAt: 2025-02-09 19:54:34 -0500 (Sun, 09 Feb 2025) EndedAt: 2025-02-09 19:55:21 -0500 (Sun, 09 Feb 2025) EllapsedTime: 47.1 seconds RetCode: 0 Status: OK CheckDir: a4Core.Rcheck Warnings: 0