Package: a4Core Version: 1.55.0 Command: rm -rf a4Core.buildbin-libdir && mkdir a4Core.buildbin-libdir && E:\biocbuild\bbs-3.21-bioc\R\bin\R.exe CMD INSTALL --build --library=a4Core.buildbin-libdir a4Core_1.55.0.tar.gz StartedAt: 2025-02-10 07:09:56 -0500 (Mon, 10 Feb 2025) EndedAt: 2025-02-10 07:10:12 -0500 (Mon, 10 Feb 2025) EllapsedTime: 15.6 seconds RetCode: 0 Status: OK PackageFile: a4Core_1.55.0.zip PackageFileSize: 313.8 KiB