Package: a4Core Version: 1.55.0 Command: chmod a+r a4Core -R && E:\biocbuild\bbs-3.21-bioc\R\bin\R.exe CMD build --keep-empty-dirs --no-resave-data a4Core StartedAt: 2025-02-09 17:09:12 -0500 (Sun, 09 Feb 2025) EndedAt: 2025-02-09 17:09:33 -0500 (Sun, 09 Feb 2025) EllapsedTime: 21.0 seconds RetCode: 0 Status: OK PackageFile: a4Core_1.55.0.tar.gz PackageFileSize: 290.5 KiB