Package: a4Preproc Version: 1.55.0 Command: /Library/Frameworks/R.framework/Resources/bin/R CMD build --keep-empty-dirs --no-resave-data a4Preproc StartedAt: 2025-02-09 15:31:13 -0500 (Sun, 09 Feb 2025) EndedAt: 2025-02-09 15:31:18 -0500 (Sun, 09 Feb 2025) EllapsedTime: 5.1 seconds RetCode: 0 Status: OK PackageFile: a4Preproc_1.55.0.tar.gz PackageFileSize: 288.6 KiB