Package: a4Preproc Version: 1.55.0 Command: /Library/Frameworks/R.framework/Resources/bin/R CMD build --keep-empty-dirs --no-resave-data a4Preproc StartedAt: 2025-02-12 15:50:30 -0500 (Wed, 12 Feb 2025) EndedAt: 2025-02-12 15:50:45 -0500 (Wed, 12 Feb 2025) EllapsedTime: 15.0 seconds RetCode: 0 Status: OK PackageFile: a4Preproc_1.55.0.tar.gz PackageFileSize: 288.4 KiB