Package: a4Preproc Version: 1.55.0 Command: chmod a+r a4Preproc -R && E:\biocbuild\bbs-3.21-bioc\R\bin\R.exe CMD build --keep-empty-dirs --no-resave-data a4Preproc StartedAt: 2025-02-09 17:09:12 -0500 (Sun, 09 Feb 2025) EndedAt: 2025-02-09 17:09:34 -0500 (Sun, 09 Feb 2025) EllapsedTime: 22.0 seconds RetCode: 0 Status: OK PackageFile: a4Preproc_1.55.0.tar.gz PackageFileSize: 288.6 KiB