Package: a4Preproc Version: 1.55.0 Command: E:\biocbuild\bbs-3.21-bioc\R\bin\R.exe CMD check --no-multiarch --install=check:a4Preproc.install-out.txt --library=E:\biocbuild\bbs-3.21-bioc\R\library --no-vignettes --timings a4Preproc_1.55.0.tar.gz StartedAt: 2025-02-09 22:29:06 -0500 (Sun, 09 Feb 2025) EndedAt: 2025-02-09 22:29:51 -0500 (Sun, 09 Feb 2025) EllapsedTime: 44.8 seconds RetCode: 0 Status: OK CheckDir: a4Preproc.Rcheck Warnings: 0