Package: acde Version: 1.37.0 Command: /home/biocbuild/R/R/bin/R CMD build --keep-empty-dirs --no-resave-data acde StartedAt: 2025-01-29 20:45:28 -0000 (Wed, 29 Jan 2025) EndedAt: 2025-01-29 20:45:42 -0000 (Wed, 29 Jan 2025) EllapsedTime: 14.0 seconds RetCode: 0 Status: OK PackageFile: acde_1.37.0.tar.gz PackageFileSize: 8.859 MiB