Package: acde Version: 1.37.0 Command: /home/biocbuild/R/R/bin/R CMD INSTALL acde StartedAt: 2025-01-29 19:30:12 -0000 (Wed, 29 Jan 2025) EndedAt: 2025-01-29 19:30:42 -0000 (Wed, 29 Jan 2025) EllapsedTime: 30.2 seconds RetCode: 0 Status: OK