Package: acde Version: 1.37.0 Command: /Library/Frameworks/R.framework/Resources/bin/R CMD build --keep-empty-dirs --no-resave-data acde StartedAt: 2025-02-09 15:51:47 -0500 (Sun, 09 Feb 2025) EndedAt: 2025-02-09 15:52:10 -0500 (Sun, 09 Feb 2025) EllapsedTime: 23.0 seconds RetCode: 0 Status: OK PackageFile: acde_1.37.0.tar.gz PackageFileSize: 8.876 MiB