Package: acde Version: 1.37.0 Command: /Library/Frameworks/R.framework/Resources/bin/R CMD INSTALL acde StartedAt: 2025-02-09 15:03:49 -0500 (Sun, 09 Feb 2025) EndedAt: 2025-02-09 15:04:23 -0500 (Sun, 09 Feb 2025) EllapsedTime: 34.4 seconds RetCode: 0 Status: OK