Package: acde Version: 1.37.0 Command: chmod a+r acde -R && E:\biocbuild\bbs-3.21-bioc\R\bin\R.exe CMD build --keep-empty-dirs --no-resave-data acde StartedAt: 2025-02-12 17:10:16 -0500 (Wed, 12 Feb 2025) EndedAt: 2025-02-12 17:10:52 -0500 (Wed, 12 Feb 2025) EllapsedTime: 36.1 seconds RetCode: 0 Status: OK PackageFile: acde_1.37.0.tar.gz PackageFileSize: 8.881 MiB