Package: acde Version: 1.37.0 Command: E:\biocbuild\bbs-3.21-bioc\R\bin\R.exe CMD check --no-multiarch --install=check:acde.install-out.txt --library=E:\biocbuild\bbs-3.21-bioc\R\library --no-vignettes --timings acde_1.37.0.tar.gz StartedAt: 2025-02-09 22:29:06 -0500 (Sun, 09 Feb 2025) EndedAt: 2025-02-09 22:30:39 -0500 (Sun, 09 Feb 2025) EllapsedTime: 92.9 seconds RetCode: 0 Status: OK CheckDir: acde.Rcheck Warnings: 0