Package: adSplit Version: 1.77.0 Maintainer: Claudio Lottaz MaintainerEmail: Claudio.Lottaz at klinik.uni-regensburg.de git_url: https://git.bioconductor.org/packages/adSplit git_branch: devel git_last_commit: 7c97ce7 git_last_commit_date: 2024-10-29 09:25:49 -0500 (Tue, 29 Oct 2024)