Package: adSplit Version: 1.77.0 Command: rm -rf adSplit.buildbin-libdir && mkdir adSplit.buildbin-libdir && /Users/biocbuild/BBS/utils/build-universal.sh adSplit_1.77.0.tar.gz /Library/Frameworks/R.framework/Resources/bin/R adSplit.buildbin-libdir StartedAt: 2025-02-04 00:21:56 -0500 (Tue, 04 Feb 2025) EndedAt: 2025-02-04 00:22:27 -0500 (Tue, 04 Feb 2025) EllapsedTime: 31.1 seconds RetCode: 0 Status: OK PackageFile: adSplit_1.77.0.tgz PackageFileSize: 561.3 KiB