Package: adSplit Version: 1.77.0 Command: /Library/Frameworks/R.framework/Resources/bin/R CMD build --keep-empty-dirs --no-resave-data adSplit StartedAt: 2025-02-03 15:55:18 -0500 (Mon, 03 Feb 2025) EndedAt: 2025-02-03 15:57:38 -0500 (Mon, 03 Feb 2025) EllapsedTime: 139.8 seconds RetCode: 0 Status: OK PackageFile: adSplit_1.77.0.tar.gz PackageFileSize: 536.6 KiB