Package: adSplit Version: 1.77.0 Command: /Library/Frameworks/R.framework/Resources/bin/R CMD check --install=check:adSplit.install-out.txt --library=/Library/Frameworks/R.framework/Resources/library --no-vignettes --timings adSplit_1.77.0.tar.gz StartedAt: 2025-02-09 18:58:38 -0500 (Sun, 09 Feb 2025) EndedAt: 2025-02-09 19:03:49 -0500 (Sun, 09 Feb 2025) EllapsedTime: 310.5 seconds RetCode: 0 Status: OK CheckDir: adSplit.Rcheck Warnings: 0